BEGIN:VCALENDAR
VERSION:2.0
PRODID:-//Ananda Hof - ECPv5.16.3.1//NONSGML v1.0//EN
CALSCALE:GREGORIAN
METHOD:PUBLISH
X-WR-CALNAME:Ananda Hof
X-ORIGINAL-URL:https://ananda-hof.de
X-WR-CALDESC:Veranstaltungen für Ananda Hof
BEGIN:VTIMEZONE
TZID:Europe/Berlin
BEGIN:DAYLIGHT
TZOFFSETFROM:+0100
TZOFFSETTO:+0200
TZNAME:CEST
DTSTART:20260329T010000
END:DAYLIGHT
BEGIN:STANDARD
TZOFFSETFROM:+0200
TZOFFSETTO:+0100
TZNAME:CET
DTSTART:20261025T010000
END:STANDARD
END:VTIMEZONE
BEGIN:VEVENT
DTSTART;TZID=Europe/Berlin:20260424T150000
DTEND;TZID=Europe/Berlin:20260426T150000
DTSTAMP:20260423T153923
CREATED:20260113T085857Z
LAST-MODIFIED:20260311T145410Z
UID:3330-1777042800-1777215600@ananda-hof.de
SUMMARY:24.-26.04.2026 - Frühlings-Erwachen für deine Weiblichkeit mit Franziska Fehre
DESCRIPTION:Ein Wochenende für Frauen\, die Lust haben sich und ihrer Körperin etwas Gutes zu tun. \n„Sie spürte keine Unterbrechung zwischen der Erde und ihrem Körper\, als ob derselbe Saft und Rhythmus gleichzeitig durch beide fließen würden – golden\, grün\, wässrig oder feurig\, wenn du den Kern berührst.“ Anaïs Nin \nSeminarleitung\nFranziska Fehre – wild&conscious\n*pflanzenverbündete\, naturspirituelle\, achtsame Wildkräuterfrau\n*Begleitet Frauen in Jahresprogrammen\, Retreats und Seminaren zurück zu ihren Wurzeln und trägt das alte Wissen um Heilpflanzen\, Ritualen und Wegen zu einer sinnlich-sinnvollen Naturverbindung mit einer Portion Kreativität und Verspieltheit in die Welt.\nwww.franziskafehre.de \nSeminarbeschreibung\nWir fließen entspannt durch einen wohltuendes\, heilsames Wochenende mit \n\nNaturbegegnungen die unsere Sinnen öffnen\nsanfter Bewegung zur Erweckung der Körperin\nwombconnection – einer geführten Reise in deinen Schoßraum\nKräuterwickelRitual -Kennenlernen eines heilsamen\, warmen Kräuterwickels für die Entspannung deiner Organe\nder Herstellung von wohltuenden Rosenvaginalkugeln\nInput zum Thema wohltuende Frauenkräuter für den Schoßraum\nSaunaRitual mit Rosenpeeling und Rosenpflege\n\nKosten Seminar\nbis Ende März 280 Euro\nab dann 320 Euro\, inkl. Material \nKosten für Unterkunft und Verpflegung\nBitte direkt mit dem Ananda Hof abrechnen. Bezahlung gern in bar vor Ort mit anschließendem Zahlungsbeleg oder Rechnung. \nKosten Unterkunft – HIER\n2 Übernachtungen – Je nach Zimmerwahl zwischen 20 € bis 40 € pro Übernachtung.\n€ 40 im Zelt oder Camper\n€ 50 im Schlafsaal\n€ 70 bis € 80 im 3er- oder Doppel-Zimmer \nKosten Verpflegung – für dieses Retreat Modul 2 \n€ 70 – vegane/vegetarische Bio-Vollverpflegung \nAblauf\nBeginn Freitag 16:00 Uhr / Anreise ab 15:00 Uhr\nEnde Sonntag 15:00 Uhr \nAnmeldung über\ninfo@franziskafehre.de\nauch Zimmerwahl hier mitteilen \n  \n 
URL:https://ananda-hof.de/tribe_event/24-26-04-2026-fruehlingserwachen-fuer-deine-weiblichkeit-mit-franziska-fehre/
LOCATION:Ananda-Hof\, Kirchweg 3\, Reinsberg OT Burkersdorf\, 09629\, Deutschland
CATEGORIES:Seminare
ATTACH;FMTTYPE=image/jpeg:https://ananda-hof.de/wp-content/uploads/2026/01/31-DSC00507.jpg
END:VEVENT
END:VCALENDAR