BEGIN:VCALENDAR
VERSION:2.0
PRODID:-//Ananda Hof - ECPv5.16.3.1//NONSGML v1.0//EN
CALSCALE:GREGORIAN
METHOD:PUBLISH
X-WR-CALNAME:Ananda Hof
X-ORIGINAL-URL:https://ananda-hof.de
X-WR-CALDESC:Veranstaltungen für Ananda Hof
BEGIN:VTIMEZONE
TZID:Europe/Berlin
BEGIN:DAYLIGHT
TZOFFSETFROM:+0100
TZOFFSETTO:+0200
TZNAME:CEST
DTSTART:20260329T010000
END:DAYLIGHT
BEGIN:STANDARD
TZOFFSETFROM:+0200
TZOFFSETTO:+0100
TZNAME:CET
DTSTART:20261025T010000
END:STANDARD
END:VTIMEZONE
BEGIN:VEVENT
DTSTART;TZID=Europe/Berlin:20260514T130000
DTEND;TZID=Europe/Berlin:20260517T140000
DTSTAMP:20260423T153923
CREATED:20240924T122440Z
LAST-MODIFIED:20250615T074854Z
UID:3015-1778763600-1779026400@ananda-hof.de
SUMMARY:14.-17.05.2026 - New Spirit 4-Tage-Retreat (Himmelfahrt) – Yoga\, Atem & Selbsterfahrung mit Ramadhuta
DESCRIPTION:Seminarleitung\nYoga\, Atem & Selbsterfahrung mit Ramadhuta Holger Lieberenz – 27 Stunden in 4 Tagen \n Seminarbeschreibung\n– Meditation\, Pranayama\, Atemkriya\, Quantum Light Breath\, Innenreisen\, 5D Chakra-Aktivierung\, Realitätssteuerung mit dem Meral-System\n– Asana intensiv & kreativ\, Ausrichtung\, Bandhas\, rückengerechtes Yoga\, Pawan Mukta Asana 2 & 3\, neurogenes Zittern\n– Sauna und Feuerschale\n– Gemeinschaft\, Singen & Tönen\, Vollwertkost vegetarisch/vegan \nBin ich liebevolle/r SchöpferIn? Stehe ich für mich ein? Um Fluss im Außen wahrzunehmen\, zu erzeugen\, zu schöpfen braucht es Fluss im Innen\, braucht es den liebevollen Blick auf Starre\, Blockaden\, Glaubenssätzen\, braucht es Reinigung – im Yoga Kriya benannt. Umsetzen können wir das über Körperübungen\, Atmung und Bewusstheit\, alle drei Elemente werden Teil des Seminars sein. Zudem kannst Du mit individueller Betreuung Deine Praxis vertiefen. \nBitte nach Möglichkeit eine Woche vor dem Seminar auf Fleisch\, Alkohol\, Nikotin und Drogen verzichten\, Zucker und Milchprodukte minimieren. \nLink zur Veranstaltung: https://ramadhuta-yoga.de/Termine/new-spirit-4-tage-retreat-himmelfahrt-yoga-atem-selbsterfahrung/ \nKosten Seminar\n280 € / 230 € ermäßigt \nKosten für Unterkunft und Verpflegung\nBitte direkt mit dem Ananda Hof abrechnen. Bezahlung gern in bar vor Ort mit anschließendem Zahlungsbeleg oder Rechnung. \nKosten Unterkunft\n1. Zelter und Camper / Wohnmobile – 20 € pro Nacht und Person\n2. Schlafsaal / Belegung max. 7 Personen – 25 € pro Nacht und Person\, Matratzen bezogen / Schlafsack oder komplettes Bettzeug bitte mitbringen\n3. 3er Zimmer – 35 € pro Nacht und Person – Bettzeug/Bettwäsche vorhanden\, bei Buchung als Doppelzimmer 40 € pro Nacht und Person.\n4. Doppelzimmer – 40 € pro Nacht und Person – Bettzeug/Bettwäsche vorhanden\n5. Einzelzimmer einfach – 40 € pro Nacht – Bettzeug/Bettwäsche vorhanden\n6. Zirkuswagen – 40 € pro Nacht und Person\, belegt mit 2 Personen\, Bettzeug/Bettwäsche vorhanden\, bei Buchung als Einzelzimmer 50 € pro Nacht und Person.\n7. Tiny House – 40 € pro Nacht und Person\, belegt mit jeweils 2 Personen\, Bettzeug/Bettwäsche vorhanden.\nBei Buchung als Einzelzimmer 80 € pro Nacht und Person. \nKosten Verpflegung Modul 1\n€ 90 Vollwertkost vegetarisch/vegan 2 reichliche Mahlzeiten am Tag + Snacks \nAblauf\nDonnerstag\, 14.05.2026: 14:00 Uhr Eröffnungskreis\, 15:00 – 18:30 Session 1\, 18:30 Uhr Dinner\, 20:00 – 22:00 Erfahrungsraum Bewegen\, Singen & Tönen \nFreitag\, 15.05.2026: 07:30 – 11:00 Session 2\, 11:00 Uhr Brunch\, 14:00 – 17:30 Session 3\, 18:00 Uhr Dinner\, 20:00 – 22:00 Sauna oder freier Abend \nSamstag\, 16.05.2026: 7:30 – 11:00 Uhr Session 4\, 11:00 Uhr Brunch\, 14:00 – 17:30 Session 5\, 20:00 – 22:00 Erfahrungsraum Gemeinschaft \nSonntag\, 17.05.2026 07:30 – 11:00 Uhr Session 6\, Abschlusskreis\, 11:00 Uhr Brunch \nAnmeldung\nhttps://ramadhuta-yoga.de/anmeldung/ \nAnreise\nDonnerstag\, 14.05.2026 ab 12:00 Uhr
URL:https://ananda-hof.de/tribe_event/14-05-17-05-2026-new-spirit-4-tage-retreat-himmelfahrt-yoga-atem-selbsterfahrung-mit-ramadhuta/
LOCATION:Ananda-Hof\, Kirchweg 3\, Reinsberg OT Burkersdorf\, 09629\, Deutschland
CATEGORIES:Seminare
ATTACH;FMTTYPE=image/jpeg:https://ananda-hof.de/wp-content/uploads/2024/09/HolgerRamadhuta_AnandaSpirit2023_Foto-AnjaPuechel_045_AP401997_web.jpg
END:VEVENT
END:VCALENDAR