BEGIN:VCALENDAR
VERSION:2.0
PRODID:-//Ananda Hof - ECPv5.16.3.1//NONSGML v1.0//EN
CALSCALE:GREGORIAN
METHOD:PUBLISH
X-WR-CALNAME:Ananda Hof
X-ORIGINAL-URL:https://ananda-hof.de
X-WR-CALDESC:Veranstaltungen für Ananda Hof
BEGIN:VTIMEZONE
TZID:Europe/Berlin
BEGIN:DAYLIGHT
TZOFFSETFROM:+0100
TZOFFSETTO:+0200
TZNAME:CEST
DTSTART:20260329T010000
END:DAYLIGHT
BEGIN:STANDARD
TZOFFSETFROM:+0200
TZOFFSETTO:+0100
TZNAME:CET
DTSTART:20261025T010000
END:STANDARD
END:VTIMEZONE
BEGIN:VEVENT
DTSTART;TZID=Europe/Berlin:20260904T120000
DTEND;TZID=Europe/Berlin:20260906T170000
DTSTAMP:20260423T170442
CREATED:20250923T095620Z
LAST-MODIFIED:20250923T100918Z
UID:3241-1788523200-1788714000@ananda-hof.de
SUMMARY:04.-06.09.2026 - Dinesh Gedenk-Wochenende mit Sufi Arbeit und Tänzen
DESCRIPTION:Dinesh Shamsudin (1943-2024) Therapeut und spiritueller Lehrer\, war der Initiator der Gruppe … von ihm kam der Impuls sich auch auf dem wunderschönen Anandahof zu treffen…Am 4. Dezember ist er von uns gegangen und hat ein Vermächtnis hinterlassen: „Bitte lasst die Gruppen die in Zusammenarbeit mit mir geleitet wurden\, weitergehen\, pflegt diese Arbeit weiter\, sie ist sehr wertvoll! ich werde Euch aus dem Unsichtbaren unterstützen!“ Deshalb ist es uns ein Anliegen\, auch auf dem Anandahof diese begonnene Arbeit weiterzuführen! Es werden einige Elemente seiner Arbeit beibehalten…..es darf aber auch etwas Neues passieren…. Sind wir offen es zuzulassen\, offen für Überraschungen !!!      \nSeminarbeschreibung \nKosten Seminar/Spendenempfehlung\n0 € bis 200 € \nKosten für Unterkunft und Verpflegung\nBitte direkt mit dem Ananda Hof abrechnen. Bezahlung gern in bar vor Ort mit anschließendem Zahlungsbeleg oder Rechnung. \nKosten Unterkunft\n1. Zelter und Camper / Wohnmobile – 20 € pro Nacht und Person\n2. Schlafsaal / Belegung max. 7 Personen – 25 € pro Nacht und Person – Matratzen bezogen / Schlafsack oder komplettes Bettzeug bitte mitbringen\n3. 3er Zimmer – 35 € pro Nacht und Person – Bettzeug/Bettwäsche vorhanden. Bei Buchung als Doppelzimmer 40 € pro Nacht und Person.\n4. Doppelzimmer – 40 € pro Nacht und Person – Bettzeug/Bettwäsche vorhanden\n5. Einzelzimmer einfach – 40 € pro Nacht – Bettzeug/Bettwäsche vorhanden\n6. Zirkuswagen – 40 € pro Nacht und Person\, belegt mit jeweils 2 Personen pro Wagen – Bettzeug/Bettwäsche vorhanden.\nBei Buchnung als Einzelzimmer 50 € pro Nacht und Person.\n7. Tiny House – 50 € pro Nacht und Person\, belegt mit jeweils 2 Personen pro Wagen – Bettzeug/Bettwäsche vorhanden.\nBei Buchnung als Einzelzimmer 80 € pro Nacht und Person. \nDa es auf dem Ananda Hof nur wenige Einzelzimmer gibt ist eine Übernachtung nach Ansprache auch in Gästezimmern in der Umgebung möglich. \nKosten Verpflegung Modul 1 \n€ 70 bei Teilnahme Fr-So\,\nWir essen vegetarisch\, bewusst wenig\, morgens und abends schweigend im Kreis.\nDas Mittagessen ist als Buffet vorgesehen. Sollte es Unverträglichkeiten geben\, meldet euch bitte. \nSeminar-Ablauf \nAbschlusskreis ♥\n \nAnmeldung\nanandaprema@posteo.de \nAnreise\nFreitag\, 04.09.2026 ab 14:00 Uhr
URL:https://ananda-hof.de/tribe_event/04-06-08-2026-dinesh-gedenk-wochenende-mit-sufi-arbeit-und-taenzen/
LOCATION:Ananda-Hof\, Kirchweg 3\, Reinsberg OT Burkersdorf\, 09629\, Deutschland
CATEGORIES:Seminare
ATTACH;FMTTYPE=image/jpeg:https://ananda-hof.de/wp-content/uploads/2020/06/Dinesh.jpg
END:VEVENT
END:VCALENDAR